BEGIN:VCALENDAR
VERSION:2.0
METHOD:PUBLISH
PRODID:-//Accessible Web Design//My Calendar//http://www.joedolson.com//v3.3.22//EN';
BEGIN:VEVENT
UID:133-103
LOCATION:Gdańsk, Ratusz Staromiejski
SUMMARY:Festiwal Nowe Fale, Gdańsk
DTSTAMP:20211125T180000
ORGANIZER;CN=neouser:MAILTO:neoquartet@gmail.com
DTSTART:20211125T180000
DTEND:20211125T193000
CATEGORIES:General
URL;VALUE=URI:
DESCRIPTION;ENCODING=QUOTED-PRINTABLE: 
END:VEVENT
END:VCALENDAR